BEGIN:VCALENDAR
VERSION:2.0
PRODID:-//eventon.com NONSGML v1.0//EN
CALSCALE:GREGORIAN
METHOD:PUBLISH
BEGIN:VEVENT
UID:69ea69a8238db
DTSTAMP:20260423T184912Z
DTSTART:20231111T150000Z
DTEND:20231111T225000Z
LOCATION:Musée de la Vie rurale 47 D38\,  59181 Steenwerck
SUMMARY:Panier de chansonnettes (jeune public)
DESCRIPTION:PROMENADE EN FORÊT\,  QUE METTRE DANS SON PANIER ? NOTES ÉGRE
 NÉES ET PAROLES ENJOUÉES POUR ENSEMBLE FREDONNER…\nhttps://www.claireda
 njou.com/events/panier-de-chansonnettes-jeune-public-2/
URL:https://www.clairedanjou.com/events/panier-de-chansonnettes-jeune-public-2/
END:VEVENT
END:VCALENDAR