BEGIN:VCALENDAR
VERSION:2.0
PRODID:-//eventon.com NONSGML v1.0//EN
CALSCALE:GREGORIAN
METHOD:PUBLISH
BEGIN:VEVENT
UID:69ea556339123
DTSTAMP:20260423T172243Z
DTSTART:20231203T160000Z
DTEND:20231203T235000Z
LOCATION:Au Petit Théâtre de Templeuve 75 Rue de Roubaix\,  59242 Templeuve
SUMMARY:Chansons frisquettes (jeune public)
DESCRIPTION:Spectacle musical et théâtral interactif d’une durée de 45
  minutes pour les enfants âgés de 3 à 10 ans. BRRR !!! QUEL FROID DE CAN
 ARD ! QU’EST-CE QU’ON PEUT BIEN FAIRE\,  COINCÉ DANS SON COCON AU COEU
 R DE L’HIVER ? … ET SI ON CHANTAIT ? Des chansons enfantines d’Anne[.
 .]\nhttps://www.clairedanjou.com/events/chansons-frisquettes-jeune-public/
URL:https://www.clairedanjou.com/events/chansons-frisquettes-jeune-public/
END:VEVENT
END:VCALENDAR