BEGIN:VCALENDAR
VERSION:2.0
PRODID:-//eventon.com NONSGML v1.0//EN
CALSCALE:GREGORIAN
METHOD:PUBLISH
BEGIN:VEVENT
UID:69ea449336733
DTSTAMP:20260423T161059Z
DTSTART:20240227T160000Z
DTEND:20240227T235900Z
LOCATION:Musée de la Vie rurale 47 D38\,  59181 Steenwerck
SUMMARY:Chansons frisquettes (jeune public)
DESCRIPTION:Spectacle musical et théâtral interactif d’une durée de 45
  minutes pour les enfants âgés de 3 à 10 ans. BRRR !!! QUEL FROID DE CAN
 ARD ! QU’EST-CE QU’ON PEUT BIEN FAIRE\,  COINCÉ DANS SON COCON AU COEU
 R DE L’HIVER ? … ET SI ON CHANTAIT ? Des chansons enfantines d’Anne[.
 .]\nhttps://www.clairedanjou.com/events/chansons-frisquettes-jeune-public-2
 /
URL:https://www.clairedanjou.com/events/chansons-frisquettes-jeune-public-2/
END:VEVENT
END:VCALENDAR