BEGIN:VCALENDAR
VERSION:2.0
PRODID:-//eventon.com NONSGML v1.0//EN
CALSCALE:GREGORIAN
METHOD:PUBLISH
BEGIN:VEVENT
UID:69ea086091aa7
DTSTAMP:20260423T115408Z
DTSTART:20250615T203000Z
DTEND:20250615T110900Z
LOCATION:Musée de la Vie rurale 47 D38\,  59181 Steenwerck
SUMMARY:Flowers Never Bend\,  Hommage à Simon & Garfunkel
DESCRIPTION:Un spectacle-hommage de et par Claire Danjou et Boris Ecorchevi
 lle. INFORMATIONS Samedi 15 juin à 20h30 / Musée de la Vie Rurale à Stee
 nwerk Résa : 03 28 50 33 80 / contact@musee-steenwerck.com Tarifs : plein 
 : 12€ ; groupe (4 personnes ou +): 9€ ; réduit 8€ (chômeur\,  étud
 iant)\nhttps://www.clairedanjou.com/events/flowers-never-bend-hommage-a-sim
 on-garfunkel/
URL:https://www.clairedanjou.com/events/flowers-never-bend-hommage-a-simon-garfunkel/
END:VEVENT
END:VCALENDAR