BEGIN:VCALENDAR
VERSION:2.0
PRODID:-//eventon.com NONSGML v1.0//EN
CALSCALE:GREGORIAN
METHOD:PUBLISH
BEGIN:VEVENT
UID:69e9f8c4b44cd
DTSTAMP:20260423T104732Z
DTSTART:20240614T070000Z
DTEND:20240614T105900Z
LOCATION:Romanischer Keller Seminarstraße 3\,  69117 Heidelberg
SUMMARY:Balade à travers la Chanson
DESCRIPTION:Un récital intimiste et interactif qui redonne vie à la chans
 on française des années 1900 à nos jours.\nhttps://www.clairedanjou.com/
 events/balade-a-travers-la-chanson-19/
URL:https://www.clairedanjou.com/events/balade-a-travers-la-chanson-19/
END:VEVENT
END:VCALENDAR