BEGIN:VCALENDAR
VERSION:2.0
PRODID:-//eventon.com NONSGML v1.0//EN
CALSCALE:GREGORIAN
METHOD:PUBLISH
BEGIN:VEVENT
UID:69e9e676d2937
DTSTAMP:20260423T092926Z
DTSTART:20240913T200000Z
DTEND:20240913T101400Z
LOCATION:Espace Culturel Agora Avenue des Sports\,  59211 Santes
SUMMARY:Flowers Never Bend\,  Hommage à Simon & Garfunkel
DESCRIPTION:Un spectacle-hommage de et par Claire Danjou et Boris Ecorchevi
 lle. INFORMATIONS Vendredi 13 septembre 2024 à 20h00 Spectacle de restitut
 ion de résidence. Infos : https://www.santes.fr/flowers-never-bend-hommage
 -simon-garfunkel-ven-13-sept-20h-saison-culturelle-2425 Entrée libre. Rés
 ervation facultative.\nhttps://www.clairedanjou.com/events/flowers-never-be
 nd-hommage-a-simon-garfunkel-3/
URL:https://www.clairedanjou.com/events/flowers-never-bend-hommage-a-simon-garfunkel-3/
END:VEVENT
END:VCALENDAR