BEGIN:VCALENDAR
VERSION:2.0
PRODID:-//eventon.com NONSGML v1.0//EN
CALSCALE:GREGORIAN
METHOD:PUBLISH
BEGIN:VEVENT
UID:69e9d4cc96fd4
DTSTAMP:20260423T081404Z
DTSTART:20241012T203000Z
DTEND:20241012T235900Z
LOCATION:Au Petit Théâtre de Templeuve 75 Rue de Roubaix\,  59242 Templeuve
SUMMARY:Amours\,  Sexe et Petits Oiseaux
DESCRIPTION:&nbsp; L’Amour dans tous ses états … de la chansonnette à
  l’eau de rose à la chanson la plus coquine !\nhttps://www.clairedanjou.
 com/events/amours-sexe-et-petits-oiseaux-13/
URL:https://www.clairedanjou.com/events/amours-sexe-et-petits-oiseaux-13/
END:VEVENT
END:VCALENDAR