BEGIN:VCALENDAR
VERSION:2.0
PRODID:-//eventon.com NONSGML v1.0//EN
CALSCALE:GREGORIAN
METHOD:PUBLISH
BEGIN:VEVENT
UID:69e9ad3b1405e
DTSTAMP:20260423T052515Z
DTSTART:20241023T160000Z
DTEND:20241023T235900Z
LOCATION:Musée de la Vie rurale 47 D38\,  59181 Steenwerck
SUMMARY:Panier de chansonnettes (jeune public)
DESCRIPTION:PROMENADE EN FORÊT\,  QUE METTRE DANS SON PANIER ? NOTES ÉGRE
 NÉES ET PAROLES ENJOUÉES POUR ENSEMBLE FREDONNER…\nhttps://www.claireda
 njou.com/events/panier-de-chansonnettes-jeune-public-4/
URL:https://www.clairedanjou.com/events/panier-de-chansonnettes-jeune-public-4/
END:VEVENT
END:VCALENDAR