BEGIN:VCALENDAR
VERSION:2.0
PRODID:-//eventon.com NONSGML v1.0//EN
CALSCALE:GREGORIAN
METHOD:PUBLISH
BEGIN:VEVENT
UID:69e99b2160f8f
DTSTAMP:20260423T040801Z
DTSTART:20241110T080000Z
DTEND:20241110T105900Z
LOCATION:L&#039;Estaminet Des mots à la bouche 1 chemin Princier 59114 Saint-Sylvestre-Cappel
SUMMARY:Balade à travers la Chanson
DESCRIPTION:Un récital intimiste et interactif qui redonne vie à la chans
 on française des années 1900 à nos jours.\nhttps://www.clairedanjou.com/
 events/balade-a-travers-la-chanson-20/
URL:https://www.clairedanjou.com/events/balade-a-travers-la-chanson-20/
END:VEVENT
END:VCALENDAR