BEGIN:VCALENDAR
VERSION:2.0
PRODID:-//eventon.com NONSGML v1.0//EN
CALSCALE:GREGORIAN
METHOD:PUBLISH
BEGIN:VEVENT
UID:69e98d1ea1ba9
DTSTAMP:20260423T030814Z
DTSTART:20241115T200000Z
DTEND:20241115T101300Z
LOCATION:Médiathèque de Rumegies Rue Alexandre Dubois\,  59226 Rumegies
SUMMARY:Flowers Never Bend\,  Hommage à Simon & Garfunkel
DESCRIPTION:Un spectacle-hommage de et par Claire Danjou et Boris Ecorchevi
 lle. INFORMATIONS Vendredi 15 novembre 2024 à 20h Médiathèque de Rumegie
 s. Infos : https://www.sivs.fr/-Mediatheque-de-Rumegies-.html Réservation 
 : mediatheque@sivs.fr\nhttps://www.clairedanjou.com/events/flowers-never-be
 nd-hommage-a-simon-garfunkel-4/
URL:https://www.clairedanjou.com/events/flowers-never-bend-hommage-a-simon-garfunkel-4/
END:VEVENT
END:VCALENDAR