BEGIN:VCALENDAR
VERSION:2.0
PRODID:-//eventon.com NONSGML v1.0//EN
CALSCALE:GREGORIAN
METHOD:PUBLISH
BEGIN:VEVENT
UID:69e97c7088397
DTSTAMP:20260423T015704Z
DTSTART:20241205T200000Z
DTEND:20241205T235900Z
LOCATION:Auditorium Bruno Coquatrix 3 rue Lavoisier 59790 Ronchin
SUMMARY:Flowers Never Bend\,  Hommage à Simon & Garfunkel
DESCRIPTION:Un spectacle-hommage de et par Claire Danjou et Boris Ecorchevi
 lle. INFORMATIONS : ANNULÉ POUR CAUSE TECHNIQUE Annulation impromptue du s
 pectacle en raison d&rsquo;une cause technique (panne de chauffage). Les da
 tes prévues en novembre et décembre 2024 sont reportées au mois de janvi
 er 2025 : nous vous donnons rendez-vous au même[..]\nhttps://www.clairedan
 jou.com/events/flowers-never-bend-hommage-a-simon-garfunkel-5/
URL:https://www.clairedanjou.com/events/flowers-never-bend-hommage-a-simon-garfunkel-5/
END:VEVENT
END:VCALENDAR