BEGIN:VCALENDAR
VERSION:2.0
PRODID:-//eventon.com NONSGML v1.0//EN
CALSCALE:GREGORIAN
METHOD:PUBLISH
BEGIN:VEVENT
UID:69e97b27469fc
DTSTAMP:20260423T015135Z
DTSTART:20250116T200000Z
DTEND:20250116T101300Z
LOCATION:Auditorium Bruno Coquatrix 3 rue Lavoisier 59790 Ronchin
SUMMARY:Flowers Never Bend\,  Hommage à Simon & Garfunkel
DESCRIPTION:Un spectacle-hommage de et par Claire Danjou et Boris Ecorchevi
 lle. INFORMATIONS : Jeudi 16 janvier 2025 à 20h00 / Auditorium Bruno Coqua
 trix à Ronchin Spectacle à 20h (ouverture des portes à 19h20 – placeme
 nt libre). Réservation (conseillée) par mail à spectacles.eclairmusical@
 gmail.com\,  merci de bien indiquer la date choisie. Tarif plein[..]\nhttps
 ://www.clairedanjou.com/events/flowers-never-bend-hommage-a-simon-garfunkel
 -6/
URL:https://www.clairedanjou.com/events/flowers-never-bend-hommage-a-simon-garfunkel-6/
END:VEVENT
END:VCALENDAR