BEGIN:VCALENDAR
VERSION:2.0
PRODID:-//eventon.com NONSGML v1.0//EN
CALSCALE:GREGORIAN
METHOD:PUBLISH
BEGIN:VEVENT
UID:69e9548427de8
DTSTAMP:20260422T230644Z
DTSTART:20250117T200000Z
DTEND:20250117T235900Z
LOCATION:Auditorium Bruno Coquatrix 3 rue Lavoisier 59790 Ronchin
SUMMARY:Flowers Never Bend\,  Hommage à Simon & Garfunkel
DESCRIPTION:Un spectacle-hommage de et par Claire Danjou et Boris Ecorchevi
 lle. INFORMATIONS : Vendredi 17 janvier 2025 à 20h00 / Auditorium Bruno Co
 quatrix à Ronchin Spectacle à 20h (ouverture des portes à 19h20 – plac
 ement libre). Réservation (conseillée) par mail à spectacles.eclairmusic
 al@gmail.com\,  merci de bien indiquer la date choisie. Tarif plein[..]\nht
 tps://www.clairedanjou.com/events/flowers-never-bend-hommage-a-simon-garfun
 kel-7/
URL:https://www.clairedanjou.com/events/flowers-never-bend-hommage-a-simon-garfunkel-7/
END:VEVENT
END:VCALENDAR