BEGIN:VCALENDAR
VERSION:2.0
PRODID:-//eventon.com NONSGML v1.0//EN
CALSCALE:GREGORIAN
METHOD:PUBLISH
BEGIN:VEVENT
UID:69e9401b62a2e
DTSTAMP:20260422T213939Z
DTSTART:20250622T060000Z
DTEND:20250622T105900Z
LOCATION:Lycée Anne Franck Goetheweg 12\,  59368 Werne
SUMMARY:Balade à travers la Chanson
DESCRIPTION:Un récital intimiste et interactif qui redonne vie à la chans
 on française des années 1900 à nos jours. Claire Danjou s’accompagnant
  à la guitare interprète un répertoire coquin\,  réaliste\,  humoristiq
 ue\,  nostalgique\,  poétique : BARBARA\,  BOURVIL\,  BRASSENS\,  FERRAT\,
   YVETTE GUILBERT\,  BOBY LAPOINTE\,  MIREILLE et bien d’autres. Un bouqu
 et d’émotions : des[..]\nhttps://www.clairedanjou.com/events/balade-a-tr
 avers-la-chanson-21/
URL:https://www.clairedanjou.com/events/balade-a-travers-la-chanson-21/
END:VEVENT
END:VCALENDAR