BEGIN:VCALENDAR
VERSION:2.0
PRODID:-//eventon.com NONSGML v1.0//EN
CALSCALE:GREGORIAN
METHOD:PUBLISH
BEGIN:VEVENT
UID:69e90071efe39
DTSTAMP:20260422T170801Z
DTSTART:20251122T101200Z
DTEND:20251122T101200Z
LOCATION:Salle communale de Marquillies Marquillies
SUMMARY:Flowers Never Bend\,  Hommage à Simon & Garfunkel
DESCRIPTION:« De Mrs robinson à Cecilia en passant par the sound of silen
 ce\,  redécouvrez l’authenticité des chansons originales de Simon and G
 arfunkel » Par Boris Ecorcheville (guitare\,  voix) et Claire Danjou (voix
 ) -&gt; VOIR LA FICHE DU SPECTACLE &lt;- Voir la page Facebook : Cliquez-ic
 i INFORMATIONS : Salle communale de[..]\nhttps://www.clairedanjou.com/event
 s/flowers-never-bend-hommage-a-simon-garfunkel-8/
URL:https://www.clairedanjou.com/events/flowers-never-bend-hommage-a-simon-garfunkel-8/
END:VEVENT
END:VCALENDAR