BEGIN:VCALENDAR
VERSION:2.0
PRODID:-//eventon.com NONSGML v1.0//EN
CALSCALE:GREGORIAN
METHOD:PUBLISH
BEGIN:VEVENT
UID:69e8b537aa83f
DTSTAMP:20260422T114703Z
DTSTART:20251107T111700Z
DTEND:20251107T111700Z
LOCATION:Espace Zyckelin Rue du Zyckelin\,  59492 Hyomille
SUMMARY:Flowers Never Bend\,  Hommage à Simon & Garfunkel
DESCRIPTION:« De Mrs robinson à Cecilia en passant par the sound of silen
 ce\,  redécouvrez l’authenticité des chansons originales de Simon and G
 arfunkel » Par Boris Ecorcheville (guitare\,  voix) et Claire Danjou (voix
 ) -&gt; VOIR LA FICHE DU SPECTACLE &lt;- Voir la page Facebook : Cliquez-ic
 i INFORMATIONS : Vendredi 7 novembre[..]\nhttps://www.clairedanjou.com/even
 ts/flowers-never-bend-hommage-a-simon-garfunkel-9/
URL:https://www.clairedanjou.com/events/flowers-never-bend-hommage-a-simon-garfunkel-9/
END:VEVENT
END:VCALENDAR