BEGIN:VCALENDAR
VERSION:2.0
PRODID:-//eventon.com NONSGML v1.0//EN
CALSCALE:GREGORIAN
METHOD:PUBLISH
BEGIN:VEVENT
UID:69e8a052223fc
DTSTAMP:20260422T101754Z
DTSTART:20251111T111700Z
DTEND:20251111T111700Z
LOCATION:Espace Agoralys 120 Rue Delpierre\,  59193 Erquinghem-Lys
SUMMARY:Flowers Never Bend\,  Hommage à Simon & Garfunkel
DESCRIPTION:« De Mrs robinson à Cecilia en passant par the sound of silen
 ce\,  redécouvrez l’authenticité des chansons originales de Simon and G
 arfunkel » Par Boris Ecorcheville (guitare\,  voix) et Claire Danjou (voix
 ) -&gt; VOIR LA FICHE DU SPECTACLE &lt;- Voir la page Facebook : Cliquez-ic
 i INFORMATIONS : Mardi 11 novembre[..]\nhttps://www.clairedanjou.com/events
 /flowers-never-bend-hommage-a-simon-garfunkel-10/
URL:https://www.clairedanjou.com/events/flowers-never-bend-hommage-a-simon-garfunkel-10/
END:VEVENT
END:VCALENDAR