BEGIN:VCALENDAR
VERSION:2.0
PRODID:-//eventon.com NONSGML v1.0//EN
CALSCALE:GREGORIAN
METHOD:PUBLISH
BEGIN:VEVENT
UID:69e8b4df5ca30
DTSTAMP:20260422T114535Z
DTSTART:20251119T073000Z
DTEND:20251119T105900Z
LOCATION:Salle des fÃªtes de Wambrechies 33 Rue du GÃ©nÃ©ral Leclerc\,  59118 Wambrechies
SUMMARY:Comme un air de Barbara
DESCRIPTION:Â« Tous les ingrÃ©dients sont rÃ©unis pour vous faire redÃ©couv
 rir les grands morceaux de cette artiste incontournable de la chanson franÃ
 §aise. Â» Nord Littoral Un spectacle authentique et vibrant mis en scÃ¨ne p
 ar Jean-Pierre Descheix. Mise en lumiÃ¨re: JÃ©rÃ©my Bourgain. Au piano : Ma
 thieu LESPINE ou Julien TORTORA. -&gt; VOIR[..]\nhttps://www.clairedanjou.c
 om/events/comme-un-air-de-barbara-11/
URL:https://www.clairedanjou.com/events/comme-un-air-de-barbara-11/
END:VEVENT
END:VCALENDAR