BEGIN:VCALENDAR
VERSION:2.0
PRODID:-//eventon.com NONSGML v1.0//EN
CALSCALE:GREGORIAN
METHOD:PUBLISH
BEGIN:VEVENT
UID:69e8cc65dc3c7
DTSTAMP:20260422T132557Z
DTSTART:20260214T200000Z
DTEND:20260214T235900Z
LOCATION:Musée de la Vie rurale 47 D38\,  59181 Steenwerck
SUMMARY:Amours\,  Sexe et Petits Oiseaux
DESCRIPTION:L’Amour dans tous ses états … de la chansonnette à l’ea
 u de rose à la chanson la plus coquine ! Ils l’ont célébré sur tous l
 es tons : GEORGES BRASSENS\,  BARBARA\,  COLETTE RENARD\,  CHARLES TRENET\,
   et bien d’autres. Claire Danjou leur prête sa voix et sa guitare et vo
 us entraîne[..]\nhttps://www.clairedanjou.com/events/amours-sexe-et-petits
 -oiseaux-14/
URL:https://www.clairedanjou.com/events/amours-sexe-et-petits-oiseaux-14/
END:VEVENT
END:VCALENDAR