BEGIN:VCALENDAR
VERSION:2.0
PRODID:-//eventon.com NONSGML v1.0//EN
CALSCALE:GREGORIAN
METHOD:PUBLISH
BEGIN:VEVENT
UID:69e8e0445901f
DTSTAMP:20260422T145044Z
DTSTART:20260314T210000Z
DTEND:20260314T235900Z
LOCATION:Des mots à la bouche 1 Chemin Princier 59114 Saint-Sylvestre-Cappel
SUMMARY:Amours\,  Sexe et Petits Oiseaux
DESCRIPTION:L’Amour dans tous ses états … de la chansonnette à l’ea
 u de rose à la chanson la plus coquine ! Ils l’ont célébré sur tous l
 es tons : GEORGES BRASSENS\,  BARBARA\,  COLETTE RENARD\,  CHARLES TRENET\,
   et bien d’autres. Claire Danjou leur prête sa voix et sa guitare et vo
 us entraîne[..]\nhttps://www.clairedanjou.com/events/amours-sexe-et-petits
 -oiseaux-15/
URL:https://www.clairedanjou.com/events/amours-sexe-et-petits-oiseaux-15/
END:VEVENT
END:VCALENDAR