BEGIN:VCALENDAR
VERSION:2.0
PRODID:-//eventon.com NONSGML v1.0//EN
CALSCALE:GREGORIAN
METHOD:PUBLISH
BEGIN:VEVENT
UID:69e8ca2073651
DTSTAMP:20260422T131616Z
DTSTART:20260126T040000Z
DTEND:20260126T105900Z
LOCATION:Gemeinde Holzwickede Fachbereich Kultur Allee 5\,  59439 Holzwickede
SUMMARY:Balade à travers la Chanson
DESCRIPTION:Un récital intimiste et interactif qui redonne vie à la chans
 on française des années 1900 à nos jours. Claire Danjou s’accompagnant
  à la guitare interprète un répertoire coquin\,  réaliste\,  humoristiq
 ue\,  nostalgique\,  poétique : BARBARA\,  BOURVIL\,  BRASSENS\,  FERRAT\,
   YVETTE GUILBERT\,  BOBY LAPOINTE\,  MIREILLE et bien d’autres. Un bouqu
 et d’émotions : des[..]\nhttps://www.clairedanjou.com/events/balade-a-tr
 avers-la-chanson-23/
URL:https://www.clairedanjou.com/events/balade-a-travers-la-chanson-23/
END:VEVENT
END:VCALENDAR