BEGIN:VCALENDAR
VERSION:2.0
PRODID:-//eventon.com NONSGML v1.0//EN
CALSCALE:GREGORIAN
METHOD:PUBLISH
BEGIN:VEVENT
UID:69e8b422de508
DTSTAMP:20260422T114226Z
DTSTART:20260228T200000Z
DTEND:20260228T111700Z
LOCATION:Salle Georges Denis 11 Rue du Bourg\,  59134 Herlies
SUMMARY:Flowers Never Bend\,  Hommage à Simon & Garfunkel
DESCRIPTION:« De Mrs robinson à Cecilia en passant par the sound of silen
 ce\,  redécouvrez l’authenticité des chansons originales de Simon and G
 arfunkel » Par Boris Ecorcheville (guitare\,  voix) et Claire Danjou (voix
 ) -&gt; VOIR LA FICHE DU SPECTACLE &lt;- Voir la page Facebook : Cliquez-ic
 i INFORMATIONS : 20h ouverture des[..]\nhttps://www.clairedanjou.com/events
 /flowers-never-bend-hommage-a-simon-garfunkel-2/
URL:https://www.clairedanjou.com/events/flowers-never-bend-hommage-a-simon-garfunkel-2/
END:VEVENT
END:VCALENDAR