BEGIN:VCALENDAR
VERSION:2.0
PRODID:-//eventon.com NONSGML v1.0//EN
CALSCALE:GREGORIAN
METHOD:PUBLISH
BEGIN:VEVENT
UID:69e89cc932f81
DTSTAMP:20260422T100249Z
DTSTART:20260708T190000Z
DTEND:20260708T111700Z
LOCATION:Salle Polyvalente Albert Bécard Place Albert Becard\,  62224 Équihen-Plage
SUMMARY:Flowers Never Bend\,  Hommage à Simon & Garfunkel
DESCRIPTION:« De Mrs robinson à Cecilia en passant par the sound of silen
 ce\,  redécouvrez l’authenticité des chansons originales de Simon and G
 arfunkel » Par Boris Ecorcheville (guitare\,  voix) et Claire Danjou (voix
 ) -&gt; VOIR LA FICHE DU SPECTACLE &lt;- Voir la page Facebook : Cliquez-ic
 i INFORMATIONS : Mercredi 8 juillet[..]\nhttps://www.clairedanjou.com/event
 s/flowers-never-bend-hommage-a-simon-garfunkel-11/
URL:https://www.clairedanjou.com/events/flowers-never-bend-hommage-a-simon-garfunkel-11/
END:VEVENT
END:VCALENDAR